BEGIN:VCALENDAR
VERSION:2.0
PRODID:-//Richmond Fire-Rescue - ECPv6.15.17.1//NONSGML v1.0//EN
CALSCALE:GREGORIAN
METHOD:PUBLISH
X-WR-CALNAME:Richmond Fire-Rescue
X-ORIGINAL-URL:https://firerescue.richmond.ca
X-WR-CALDESC:Events for Richmond Fire-Rescue
REFRESH-INTERVAL;VALUE=DURATION:PT1H
X-Robots-Tag:noindex
X-PUBLISHED-TTL:PT1H
BEGIN:VTIMEZONE
TZID:America/Vancouver
BEGIN:DAYLIGHT
TZOFFSETFROM:-0800
TZOFFSETTO:-0700
TZNAME:PDT
DTSTART:20240310T100000
END:DAYLIGHT
BEGIN:STANDARD
TZOFFSETFROM:-0700
TZOFFSETTO:-0800
TZNAME:PST
DTSTART:20241103T090000
END:STANDARD
BEGIN:DAYLIGHT
TZOFFSETFROM:-0800
TZOFFSETTO:-0700
TZNAME:PDT
DTSTART:20250309T100000
END:DAYLIGHT
BEGIN:STANDARD
TZOFFSETFROM:-0700
TZOFFSETTO:-0800
TZNAME:PST
DTSTART:20251102T090000
END:STANDARD
BEGIN:DAYLIGHT
TZOFFSETFROM:-0800
TZOFFSETTO:-0700
TZNAME:PDT
DTSTART:20260308T100000
END:DAYLIGHT
BEGIN:STANDARD
TZOFFSETFROM:-0700
TZOFFSETTO:-0800
TZNAME:PST
DTSTART:20261101T090000
END:STANDARD
END:VTIMEZONE
BEGIN:VEVENT
DTSTART;TZID=America/Vancouver:20251114T153000
DTEND;TZID=America/Vancouver:20251114T163000
DTSTAMP:20260420T044341
CREATED:20251113T194811Z
LAST-MODIFIED:20251114T005503Z
UID:10252-1763134200-1763137800@firerescue.richmond.ca
SUMMARY:Tomorrow's Top Kids - Private Event
DESCRIPTION:We are thrilled to welcome your group to our fire hall! We’re excited to show you around our station\, share the ins and outs of our firefighting gear\, and give you a peek into the daily life of our dedicated crew. Get ready for an engaging tour filled with stories\, demonstrations\, and maybe even a chance to hop on a fire truck—we can’t wait to spark your enthusiasm for what we do!
URL:https://firerescue.richmond.ca/community/event-calendar/event/tomorrows-top-kids/
CATEGORIES:Private Event
ATTACH;FMTTYPE=image/jpeg:https://firerescue.richmond.ca/wp-content/uploads/2024/01/fire-hall-tour-cover.jpg
END:VEVENT
END:VCALENDAR