BEGIN:VCALENDAR
VERSION:2.0
PRODID:-//Richmond Fire-Rescue - ECPv6.15.17.1//NONSGML v1.0//EN
CALSCALE:GREGORIAN
METHOD:PUBLISH
X-WR-CALNAME:Richmond Fire-Rescue
X-ORIGINAL-URL:https://firerescue.richmond.ca
X-WR-CALDESC:Events for Richmond Fire-Rescue
REFRESH-INTERVAL;VALUE=DURATION:PT1H
X-Robots-Tag:noindex
X-PUBLISHED-TTL:PT1H
BEGIN:VTIMEZONE
TZID:America/Vancouver
BEGIN:DAYLIGHT
TZOFFSETFROM:-0800
TZOFFSETTO:-0700
TZNAME:PDT
DTSTART:20240310T100000
END:DAYLIGHT
BEGIN:STANDARD
TZOFFSETFROM:-0700
TZOFFSETTO:-0800
TZNAME:PST
DTSTART:20241103T090000
END:STANDARD
BEGIN:DAYLIGHT
TZOFFSETFROM:-0800
TZOFFSETTO:-0700
TZNAME:PDT
DTSTART:20250309T100000
END:DAYLIGHT
BEGIN:STANDARD
TZOFFSETFROM:-0700
TZOFFSETTO:-0800
TZNAME:PST
DTSTART:20251102T090000
END:STANDARD
BEGIN:DAYLIGHT
TZOFFSETFROM:-0800
TZOFFSETTO:-0700
TZNAME:PDT
DTSTART:20260308T100000
END:DAYLIGHT
BEGIN:STANDARD
TZOFFSETFROM:-0700
TZOFFSETTO:-0800
TZNAME:PST
DTSTART:20261101T090000
END:STANDARD
END:VTIMEZONE
BEGIN:VEVENT
DTSTART;TZID=America/Vancouver:20251213T180000
DTEND;TZID=America/Vancouver:20251213T200000
DTSTAMP:20260419T100538
CREATED:20251114T001543Z
LAST-MODIFIED:20251204T183524Z
UID:10264-1765648800-1765656000@firerescue.richmond.ca
SUMMARY:Steveston Santa Parade - Public
DESCRIPTION:The Steveston Santa Parade will bring some holiday cheer to the area as the Richmond Firefighters Charitable Society accepts non-perishable food items and monetary donations that go right back into our very own community. Let’s make everyone’s holiday season bright this year!
URL:https://firerescue.richmond.ca/community/event-calendar/event/steveston-santa-parade/
ATTACH;FMTTYPE=image/png:https://firerescue.richmond.ca/wp-content/uploads/2024/11/Were-Coming.png
END:VEVENT
END:VCALENDAR