BEGIN:VCALENDAR
VERSION:2.0
PRODID:-//Richmond Fire-Rescue - ECPv6.15.17.1//NONSGML v1.0//EN
CALSCALE:GREGORIAN
METHOD:PUBLISH
X-WR-CALNAME:Richmond Fire-Rescue
X-ORIGINAL-URL:https://firerescue.richmond.ca
X-WR-CALDESC:Events for Richmond Fire-Rescue
REFRESH-INTERVAL;VALUE=DURATION:PT1H
X-Robots-Tag:noindex
X-PUBLISHED-TTL:PT1H
BEGIN:VTIMEZONE
TZID:America/Vancouver
BEGIN:DAYLIGHT
TZOFFSETFROM:-0800
TZOFFSETTO:-0700
TZNAME:PDT
DTSTART:20240310T100000
END:DAYLIGHT
BEGIN:STANDARD
TZOFFSETFROM:-0700
TZOFFSETTO:-0800
TZNAME:PST
DTSTART:20241103T090000
END:STANDARD
BEGIN:DAYLIGHT
TZOFFSETFROM:-0800
TZOFFSETTO:-0700
TZNAME:PDT
DTSTART:20250309T100000
END:DAYLIGHT
BEGIN:STANDARD
TZOFFSETFROM:-0700
TZOFFSETTO:-0800
TZNAME:PST
DTSTART:20251102T090000
END:STANDARD
BEGIN:DAYLIGHT
TZOFFSETFROM:-0800
TZOFFSETTO:-0700
TZNAME:PDT
DTSTART:20260308T100000
END:DAYLIGHT
BEGIN:STANDARD
TZOFFSETFROM:-0700
TZOFFSETTO:-0800
TZNAME:PST
DTSTART:20261101T090000
END:STANDARD
END:VTIMEZONE
BEGIN:VEVENT
DTSTART;TZID=America/Vancouver:20251122T090000
DTEND;TZID=America/Vancouver:20251122T140000
DTSTAMP:20260419T231827
CREATED:20251113T235830Z
LAST-MODIFIED:20251114T005424Z
UID:10257-1763802000-1763820000@firerescue.richmond.ca
SUMMARY:RCMP Toy Drive - Public Event
DESCRIPTION:Join us as we support the RCMP Toy Drive at the Lansdowne Centre parking lot this Saturday! Bring a new unwrapped toy and receive a bag of mini donuts!  Come hang out with Santa\, Richmond Fire-Rescue\, RCMP\, BC Ambulance and many other City programs for a fun filled event! All gifts will go back into our community to those who need them most.
URL:https://firerescue.richmond.ca/community/event-calendar/event/rcmp-toy-drive/
ATTACH;FMTTYPE=image/jpeg:https://firerescue.richmond.ca/wp-content/uploads/2024/01/public-event-cover.jpg
END:VEVENT
END:VCALENDAR